BEGIN:VCALENDAR
VERSION:2.0
PRODID:-//Charity Mapletoft - ECPv6.15.17.1//NONSGML v1.0//EN
CALSCALE:GREGORIAN
METHOD:PUBLISH
X-ORIGINAL-URL:https://charitymapletoft.com
X-WR-CALDESC:Events for Charity Mapletoft
REFRESH-INTERVAL;VALUE=DURATION:PT1H
X-Robots-Tag:noindex
X-PUBLISHED-TTL:PT1H
BEGIN:VTIMEZONE
TZID:UTC
BEGIN:STANDARD
TZOFFSETFROM:+0000
TZOFFSETTO:+0000
TZNAME:UTC
DTSTART:20220101T000000
END:STANDARD
END:VTIMEZONE
BEGIN:VEVENT
DTSTART;VALUE=DATE:20230308
DTEND;VALUE=DATE:20230309
DTSTAMP:20260421T121018
CREATED:20230801T114106Z
LAST-MODIFIED:20230814T124257Z
UID:563-1678233600-1678319999@charitymapletoft.com
SUMMARY:First Prize | Finals | International Mozart Competition Vienna 2022
DESCRIPTION:
URL:https://charitymapletoft.com/events/first-prize-international-mozart-competition-vienna-2022-finals/
LOCATION:Vienna\, Austria
END:VEVENT
BEGIN:VEVENT
DTSTART;VALUE=DATE:20230323
DTEND;VALUE=DATE:20230324
DTSTAMP:20260421T121018
CREATED:20230801T113120Z
LAST-MODIFIED:20230816T141226Z
UID:560-1679529600-1679615999@charitymapletoft.com
SUMMARY:First Prize | Finals | London Classical Music Competition 2022
DESCRIPTION:
URL:https://charitymapletoft.com/events/first-prize-london-classical-music-competition-2022-finals/
LOCATION:London\, London\, United Kingdom
END:VEVENT
END:VCALENDAR