BEGIN:VCALENDAR
VERSION:2.0
PRODID:-//Charity Mapletoft - ECPv6.15.17.1//NONSGML v1.0//EN
CALSCALE:GREGORIAN
METHOD:PUBLISH
X-ORIGINAL-URL:https://charitymapletoft.com
X-WR-CALDESC:Events for Charity Mapletoft
REFRESH-INTERVAL;VALUE=DURATION:PT1H
X-Robots-Tag:noindex
X-PUBLISHED-TTL:PT1H
BEGIN:VTIMEZONE
TZID:UTC
BEGIN:STANDARD
TZOFFSETFROM:+0000
TZOFFSETTO:+0000
TZNAME:UTC
DTSTART:20210101T000000
END:STANDARD
END:VTIMEZONE
BEGIN:VEVENT
DTSTART;VALUE=DATE:20221210
DTEND;VALUE=DATE:20221211
DTSTAMP:20260423T122523
CREATED:20230801T114942Z
LAST-MODIFIED:20230814T121618Z
UID:573-1670630400-1670716799@charitymapletoft.com
SUMMARY:Soprano Soloist | World Classical Music Awards Gala Concert | True Arts TV
DESCRIPTION:
URL:https://charitymapletoft.com/events/soprano-soloist-world-classical-music-awards-gala-concert/
LOCATION:London\, United Kingdom
END:VEVENT
BEGIN:VEVENT
DTSTART;VALUE=DATE:20221219
DTEND;VALUE=DATE:20221220
DTSTAMP:20260423T122523
CREATED:20230801T114728Z
LAST-MODIFIED:20230814T125004Z
UID:571-1671408000-1671494399@charitymapletoft.com
SUMMARY:First Prize (Gold Medal) | Finals | Trinity International Music Competition 2022
DESCRIPTION:
URL:https://charitymapletoft.com/events/gold-medal-trinity-international-music-competition-2022-finals/
LOCATION:London\, London\, United Kingdom
END:VEVENT
BEGIN:VEVENT
DTSTART;VALUE=DATE:20221227
DTEND;VALUE=DATE:20221228
DTSTAMP:20260423T122523
CREATED:20230704T073108Z
LAST-MODIFIED:20230814T121414Z
UID:382-1672099200-1672185599@charitymapletoft.com
SUMMARY:Dido‡* | Dido and Aeneas | Jorvik Court Opera
DESCRIPTION:
URL:https://charitymapletoft.com/events/dido%e2%80%a1-dido-and-aeneas-2/
LOCATION:United Kingdom
END:VEVENT
BEGIN:VEVENT
DTSTART;VALUE=DATE:20221228
DTEND;VALUE=DATE:20221229
DTSTAMP:20260423T122523
CREATED:20230801T114647Z
LAST-MODIFIED:20230814T121355Z
UID:569-1672185600-1672271999@charitymapletoft.com
SUMMARY:First Prize | Finals | New York Global Music Competition 2022
DESCRIPTION:
URL:https://charitymapletoft.com/events/first-prize-new-york-global-music-competition-2022-finals/
LOCATION:Online
END:VEVENT
BEGIN:VEVENT
DTSTART;VALUE=DATE:20221231
DTEND;VALUE=DATE:20230101
DTSTAMP:20260423T122523
CREATED:20230801T114538Z
LAST-MODIFIED:20230814T121330Z
UID:567-1672444800-1672531199@charitymapletoft.com
SUMMARY:First Prize | Finals | Franz Schubert International Music Competition 2022
DESCRIPTION:
URL:https://charitymapletoft.com/events/first-prize-franz-schubert-international-music-competition-2022-finals/
LOCATION:Online
END:VEVENT
END:VCALENDAR