BEGIN:VCALENDAR
VERSION:2.0
PRODID:-//Charity Mapletoft - ECPv6.15.17.1//NONSGML v1.0//EN
CALSCALE:GREGORIAN
METHOD:PUBLISH
X-WR-CALNAME:Charity Mapletoft
X-ORIGINAL-URL:https://charitymapletoft.com
X-WR-CALDESC:Events for Charity Mapletoft
REFRESH-INTERVAL;VALUE=DURATION:PT1H
X-Robots-Tag:noindex
X-PUBLISHED-TTL:PT1H
BEGIN:VTIMEZONE
TZID:UTC
BEGIN:STANDARD
TZOFFSETFROM:+0000
TZOFFSETTO:+0000
TZNAME:UTC
DTSTART:20210101T000000
END:STANDARD
END:VTIMEZONE
BEGIN:VEVENT
DTSTART;VALUE=DATE:20220702
DTEND;VALUE=DATE:20220703
DTSTAMP:20260423T174543
CREATED:20230803T092755Z
LAST-MODIFIED:20230814T130034Z
UID:599-1656720000-1656806399@charitymapletoft.com
SUMMARY:First Prize | Finals | London International Music Competition 2022
DESCRIPTION:
URL:https://charitymapletoft.com/events/first-prize-london-international-music-competition-2022-finals/
LOCATION:Online
END:VEVENT
BEGIN:VEVENT
DTSTART;VALUE=DATE:20220706
DTEND;VALUE=DATE:20220707
DTSTAMP:20260423T174543
CREATED:20230803T092652Z
LAST-MODIFIED:20230814T130001Z
UID:597-1657065600-1657151999@charitymapletoft.com
SUMMARY:Semi-Finals (performance cancelled due to COVID-19) | Concurso Internacional De Canto Lírico De Lousada 2022
DESCRIPTION:
URL:https://charitymapletoft.com/events/semi-finalist-performance-cancelled-due-to-covid-19-concurso-internacional-de-canto-lirico-de-lousada/
LOCATION:Lousada\, Portugal
END:VEVENT
BEGIN:VEVENT
DTSTART;VALUE=DATE:20220708
DTEND;VALUE=DATE:20220709
DTSTAMP:20260423T174543
CREATED:20230803T092405Z
LAST-MODIFIED:20230814T125936Z
UID:595-1657238400-1657324799@charitymapletoft.com
SUMMARY:First Prize | Finals | Las Conchillas International Music Competition Chile 2022
DESCRIPTION:
URL:https://charitymapletoft.com/events/first-prize-las-conchillas-international-music-competition-chile-2022-finals/
LOCATION:Online
END:VEVENT
END:VCALENDAR