BEGIN:VCALENDAR
VERSION:2.0
PRODID:-//Charity Mapletoft - ECPv6.15.17.1//NONSGML v1.0//EN
CALSCALE:GREGORIAN
METHOD:PUBLISH
X-WR-CALNAME:Charity Mapletoft
X-ORIGINAL-URL:https://charitymapletoft.com
X-WR-CALDESC:Events for Charity Mapletoft
REFRESH-INTERVAL;VALUE=DURATION:PT1H
X-Robots-Tag:noindex
X-PUBLISHED-TTL:PT1H
BEGIN:VTIMEZONE
TZID:UTC
BEGIN:STANDARD
TZOFFSETFROM:+0000
TZOFFSETTO:+0000
TZNAME:UTC
DTSTART:20250101T000000
END:STANDARD
END:VTIMEZONE
BEGIN:VEVENT
DTSTART;TZID=UTC:20260620T180000
DTEND;TZID=UTC:20260620T210000
DTSTAMP:20260423T130101
CREATED:20260423T124430Z
LAST-MODIFIED:20260423T125405Z
UID:1515-1781978400-1781989200@charitymapletoft.com
SUMMARY:Gala Concert (Details TBA)
DESCRIPTION:Details TBA.
URL:https://charitymapletoft.com/events/gala-concert-at-lincoln-center/
LOCATION:Lincoln Hall\, New York\, New York\, United States
END:VEVENT
BEGIN:VEVENT
DTSTART;TZID=UTC:20260624T190000
DTEND;TZID=UTC:20260624T220000
DTSTAMP:20260423T130101
CREATED:20260423T124253Z
LAST-MODIFIED:20260423T125349Z
UID:1513-1782327600-1782338400@charitymapletoft.com
SUMMARY:Gala Concert with receipt of the New Jersey State Senate Award (Details TBA)
DESCRIPTION:
URL:https://charitymapletoft.com/events/gala-concert-at-weill-recital-hall-carnegie-hall-with-receipt-of-new-jersey-state-senate-award/
LOCATION:Weill Recital Hall\, Carnegie Hall\, New York\, NY\, United States
END:VEVENT
END:VCALENDAR