BEGIN:VCALENDAR
VERSION:2.0
PRODID:-//Charity Mapletoft - ECPv6.15.17.1//NONSGML v1.0//EN
CALSCALE:GREGORIAN
METHOD:PUBLISH
X-WR-CALNAME:Charity Mapletoft
X-ORIGINAL-URL:https://charitymapletoft.com
X-WR-CALDESC:Events for Charity Mapletoft
REFRESH-INTERVAL;VALUE=DURATION:PT1H
X-Robots-Tag:noindex
X-PUBLISHED-TTL:PT1H
BEGIN:VTIMEZONE
TZID:UTC
BEGIN:STANDARD
TZOFFSETFROM:+0000
TZOFFSETTO:+0000
TZNAME:UTC
DTSTART:20150101T000000
END:STANDARD
END:VTIMEZONE
BEGIN:VEVENT
DTSTART;VALUE=DATE:20211216
DTEND;VALUE=DATE:20211217
DTSTAMP:20260421T174129
CREATED:20230803T094136Z
LAST-MODIFIED:20230814T130351Z
UID:611-1639612800-1639699199@charitymapletoft.com
SUMMARY:Grand Prize | Finals | World Classical Music Awards 2021
DESCRIPTION:
URL:https://charitymapletoft.com/events/grand-prize-world-classical-music-awards-2021-finals/
LOCATION:Online
END:VEVENT
BEGIN:VEVENT
DTSTART;VALUE=DATE:20211205
DTEND;VALUE=DATE:20211206
DTSTAMP:20260421T174129
CREATED:20230803T094421Z
LAST-MODIFIED:20230814T130537Z
UID:620-1638662400-1638748799@charitymapletoft.com
SUMMARY:Third Prize (Qualified for Second Prize) | Finals | The North International Music Competition\, Stockholm 2021
DESCRIPTION:
URL:https://charitymapletoft.com/events/third-prize-qualified-for-second-prize-the-north-international-music-competition-stockholm-2021-finals/
LOCATION:Online
END:VEVENT
BEGIN:VEVENT
DTSTART;VALUE=DATE:20211115
DTEND;VALUE=DATE:20211116
DTSTAMP:20260421T174129
CREATED:20230803T094534Z
LAST-MODIFIED:20230814T130555Z
UID:622-1636934400-1637020799@charitymapletoft.com
SUMMARY:Finals | Neapolitan Masters International Music Competition
DESCRIPTION:
URL:https://charitymapletoft.com/events/finalist-neapolitan-masters-international-music-competition/
LOCATION:Online
END:VEVENT
BEGIN:VEVENT
DTSTART;VALUE=DATE:20211111
DTEND;VALUE=DATE:20211112
DTSTAMP:20260421T174129
CREATED:20230803T094612Z
LAST-MODIFIED:20230814T130609Z
UID:624-1636588800-1636675199@charitymapletoft.com
SUMMARY:Semi-Finals | Premiere Opera Foundation International Vocal Competition
DESCRIPTION:
URL:https://charitymapletoft.com/events/semi-finalist-premiere-opera-foundation-international-vocal-competition/
LOCATION:Online
END:VEVENT
BEGIN:VEVENT
DTSTART;VALUE=DATE:20210928
DTEND;VALUE=DATE:20210929
DTSTAMP:20260421T174129
CREATED:20230803T094654Z
LAST-MODIFIED:20230814T130622Z
UID:626-1632787200-1632873599@charitymapletoft.com
SUMMARY:Second Prize | Finals | Rising Stars Grand Prix – International Music Competition Berlin 2021
DESCRIPTION:
URL:https://charitymapletoft.com/events/second-prize-rising-stars-grand-prix-international-music-competition-berlin-2021-finals/
LOCATION:Online
END:VEVENT
BEGIN:VEVENT
DTSTART;VALUE=DATE:20210921
DTEND;VALUE=DATE:20210922
DTSTAMP:20260421T174129
CREATED:20230803T094730Z
LAST-MODIFIED:20230814T130632Z
UID:628-1632182400-1632268799@charitymapletoft.com
SUMMARY:Third Prize (Bronze Medal) | Finals | Global Music Awards 2021
DESCRIPTION:
URL:https://charitymapletoft.com/events/bronze-medal-global-music-awards-2021-finals/
LOCATION:Online
END:VEVENT
BEGIN:VEVENT
DTSTART;VALUE=DATE:20210905
DTEND;VALUE=DATE:20210906
DTSTAMP:20260421T174129
CREATED:20230803T094803Z
LAST-MODIFIED:20230814T130644Z
UID:630-1630800000-1630886399@charitymapletoft.com
SUMMARY:Second Prize | Finals | Chicago International Music Competition 2021
DESCRIPTION:
URL:https://charitymapletoft.com/events/second-prize-chicago-international-music-competition-2021-finals/
LOCATION:Online
END:VEVENT
BEGIN:VEVENT
DTSTART;VALUE=DATE:20210811
DTEND;VALUE=DATE:20210812
DTSTAMP:20260421T174129
CREATED:20230803T094845Z
LAST-MODIFIED:20230814T130701Z
UID:632-1628640000-1628726399@charitymapletoft.com
SUMMARY:Semi-Finals | OSAKA International Music Competition New York Regional Round 2021
DESCRIPTION:
URL:https://charitymapletoft.com/events/nyrr-chief-executive-award-osaka-international-music-competition-new-york-regional-round-2021-semi-finals/
LOCATION:Online
END:VEVENT
BEGIN:VEVENT
DTSTART;VALUE=DATE:20210803
DTEND;VALUE=DATE:20210804
DTSTAMP:20260421T174129
CREATED:20230803T094938Z
LAST-MODIFIED:20230814T131122Z
UID:634-1627948800-1628035199@charitymapletoft.com
SUMMARY:Semi-Finals | Cesti Competition 2021 | Innsbrucker Festwochen der Alten Musik
DESCRIPTION:
URL:https://charitymapletoft.com/events/semi-finalist-cesti-competition/
LOCATION:Innsbruck\, Austria
END:VEVENT
BEGIN:VEVENT
DTSTART;VALUE=DATE:20210613
DTEND;VALUE=DATE:20210614
DTSTAMP:20260421T174129
CREATED:20230804T110947Z
LAST-MODIFIED:20230814T131215Z
UID:760-1623542400-1623628799@charitymapletoft.com
SUMMARY:Bellezza\, Semele\, Hora Seconda | L’Egisto | Hampstead Garden Opera
DESCRIPTION:
URL:https://charitymapletoft.com/events/bellezza-semele-hora-seconda-legisto-4/
LOCATION:London\, London\, United Kingdom
END:VEVENT
BEGIN:VEVENT
DTSTART;VALUE=DATE:20210611
DTEND;VALUE=DATE:20210612
DTSTAMP:20260421T174129
CREATED:20230804T110924Z
LAST-MODIFIED:20230814T131518Z
UID:758-1623369600-1623455999@charitymapletoft.com
SUMMARY:Bellezza\, Semele\, Hora Seconda | L’Egisto | Hampstead Garden Opera
DESCRIPTION:
URL:https://charitymapletoft.com/events/bellezza-semele-hora-seconda-legisto-3/
LOCATION:London\, London\, United Kingdom
END:VEVENT
BEGIN:VEVENT
DTSTART;VALUE=DATE:20210609
DTEND;VALUE=DATE:20210610
DTSTAMP:20260421T174129
CREATED:20230804T110858Z
LAST-MODIFIED:20230814T131547Z
UID:756-1623196800-1623283199@charitymapletoft.com
SUMMARY:Bellezza\, Semele\, Hora Seconda | L’Egisto | Hampstead Garden Opera
DESCRIPTION:
URL:https://charitymapletoft.com/events/bellezza-semele-hora-seconda-legisto-2/
LOCATION:London\, London\, United Kingdom
END:VEVENT
BEGIN:VEVENT
DTSTART;VALUE=DATE:20210605
DTEND;VALUE=DATE:20210614
DTSTAMP:20260421T174129
CREATED:20230620T191157Z
LAST-MODIFIED:20230814T131626Z
UID:301-1622851200-1623628799@charitymapletoft.com
SUMMARY:Bellezza\, Semele\, Hora Seconda | L’Egisto | Hampstead Garden Opera
DESCRIPTION:
URL:https://charitymapletoft.com/events/bellezza-semele-hora-seconda-legisto/
LOCATION:London\, London\, United Kingdom
END:VEVENT
BEGIN:VEVENT
DTSTART;VALUE=DATE:20200203
DTEND;VALUE=DATE:20200204
DTSTAMP:20260421T174129
CREATED:20230704T073337Z
LAST-MODIFIED:20230704T073337Z
UID:384-1580688000-1580774399@charitymapletoft.com
SUMMARY:Guest Soloist | Soirée for His Excellency\, the Papal Nuncio to the UK
DESCRIPTION:
URL:https://charitymapletoft.com/events/guest-soloist-soiree-for-his-excellency-the-papal-nuncio-to-the-uk/
LOCATION:Apostolic Nunciature of the Holy See\, London\, United Kingdom
END:VEVENT
BEGIN:VEVENT
DTSTART;VALUE=DATE:20190702
DTEND;VALUE=DATE:20190703
DTSTAMP:20260421T174129
CREATED:20230804T120149Z
LAST-MODIFIED:20230816T142225Z
UID:890-1562025600-1562111999@charitymapletoft.com
SUMMARY:Taumännchen\, Sandmännchen | Hänsel und Gretel | Delius Opera Co.
DESCRIPTION:
URL:https://charitymapletoft.com/events/taumannchen-sandmannchen-hansel-und-gretel-delius-opera-co-5/
LOCATION:London\, London\, United Kingdom
END:VEVENT
BEGIN:VEVENT
DTSTART;VALUE=DATE:20190608
DTEND;VALUE=DATE:20190609
DTSTAMP:20260421T174129
CREATED:20230804T120133Z
LAST-MODIFIED:20230816T142239Z
UID:888-1559952000-1560038399@charitymapletoft.com
SUMMARY:Taumännchen\, Sandmännchen | Hänsel und Gretel | Delius Opera Co.
DESCRIPTION:
URL:https://charitymapletoft.com/events/taumannchen-sandmannchen-hansel-und-gretel-delius-opera-co-4/
LOCATION:London\, London\, United Kingdom
END:VEVENT
BEGIN:VEVENT
DTSTART;VALUE=DATE:20190605
DTEND;VALUE=DATE:20190606
DTSTAMP:20260421T174129
CREATED:20230804T120037Z
LAST-MODIFIED:20230816T142252Z
UID:882-1559692800-1559779199@charitymapletoft.com
SUMMARY:Taumännchen\, Sandmännchen | Hänsel und Gretel | Delius Opera Co.
DESCRIPTION:
URL:https://charitymapletoft.com/events/taumannchen-sandmannchen-hansel-und-gretel-delius-opera-co-2/
LOCATION:London\, London\, United Kingdom
END:VEVENT
BEGIN:VEVENT
DTSTART;VALUE=DATE:20190602
DTEND;VALUE=DATE:20190603
DTSTAMP:20260421T174129
CREATED:20230804T120113Z
LAST-MODIFIED:20230804T120113Z
UID:886-1559433600-1559519999@charitymapletoft.com
SUMMARY:Taumännchen\, Sandmännchen | Hänsel und Gretel | Delius Opera Co.
DESCRIPTION:
URL:https://charitymapletoft.com/events/taumannchen-sandmannchen-hansel-und-gretel-delius-opera-co-3/
END:VEVENT
BEGIN:VEVENT
DTSTART;VALUE=DATE:20190531
DTEND;VALUE=DATE:20190601
DTSTAMP:20260421T174129
CREATED:20230803T102434Z
LAST-MODIFIED:20230816T142316Z
UID:712-1559260800-1559347199@charitymapletoft.com
SUMMARY:Taumännchen\, Sandmännchen | Hänsel und Gretel | Delius Opera Co.
DESCRIPTION:
URL:https://charitymapletoft.com/events/taumannchen-sandmannchen-hansel-und-gretel-delius-opera-co/
LOCATION:London\, London\, United Kingdom
END:VEVENT
BEGIN:VEVENT
DTSTART;VALUE=DATE:20181115
DTEND;VALUE=DATE:20181218
DTSTAMP:20260421T174129
CREATED:20230803T095307Z
LAST-MODIFIED:20230816T142400Z
UID:637-1542240000-1545091199@charitymapletoft.com
SUMMARY:Guest Soloist | Soirée for His Excellency\, the Papal Nuncio to Great Britain | Apostolic Nunciature to Great Britain
DESCRIPTION:
URL:https://charitymapletoft.com/events/guest-soloist-soiree-for-his-excellency-the-papal-nuncio-to-the-uk-6/
LOCATION:London\, London\, United Kingdom
END:VEVENT
BEGIN:VEVENT
DTSTART;VALUE=DATE:20180418
DTEND;VALUE=DATE:20180419
DTSTAMP:20260421T174129
CREATED:20230804T120328Z
LAST-MODIFIED:20230816T142804Z
UID:895-1524009600-1524095999@charitymapletoft.com
SUMMARY:Susanna* | Le Nozze di Figaro | Delius Opera Co.
DESCRIPTION:
URL:https://charitymapletoft.com/events/susanna-le-nozze-di-figaro-delius-opera-co-3/
LOCATION:London\, London\, United Kingdom
END:VEVENT
BEGIN:VEVENT
DTSTART;VALUE=DATE:20180405
DTEND;VALUE=DATE:20180406
DTSTAMP:20260421T174129
CREATED:20230804T120310Z
LAST-MODIFIED:20230816T143048Z
UID:893-1522886400-1522972799@charitymapletoft.com
SUMMARY:Susanna* | Le Nozze di Figaro | Delius Opera Co.
DESCRIPTION:
URL:https://charitymapletoft.com/events/susanna-le-nozze-di-figaro-delius-opera-co-2/
LOCATION:London\, London\, United Kingdom
END:VEVENT
BEGIN:VEVENT
DTSTART;VALUE=DATE:20180403
DTEND;VALUE=DATE:20180404
DTSTAMP:20260421T174129
CREATED:20230803T102509Z
LAST-MODIFIED:20230816T143103Z
UID:714-1522713600-1522799999@charitymapletoft.com
SUMMARY:Susanna* | Le Nozze di Figaro | Delius Opera Co.
DESCRIPTION:
URL:https://charitymapletoft.com/events/susanna-le-nozze-di-figaro-delius-opera-co/
LOCATION:London\, London\, United Kingdom
END:VEVENT
BEGIN:VEVENT
DTSTART;VALUE=DATE:20171215
DTEND;VALUE=DATE:20171216
DTSTAMP:20260421T174129
CREATED:20230704T074036Z
LAST-MODIFIED:20230704T074036Z
UID:388-1513296000-1513382399@charitymapletoft.com
SUMMARY:Soprano Soloist | Christmas Concert | Excerpts from Messiah
DESCRIPTION:
URL:https://charitymapletoft.com/events/soprano-soloist-christmas-concert-excerpts-from-messiah/
LOCATION:Corpus Christi ‘The Catholic Actors’ Church\, London\, United Kingdom
END:VEVENT
BEGIN:VEVENT
DTSTART;VALUE=DATE:20171209
DTEND;VALUE=DATE:20171210
DTSTAMP:20260421T174129
CREATED:20230803T095433Z
LAST-MODIFIED:20230816T143148Z
UID:640-1512777600-1512863999@charitymapletoft.com
SUMMARY:Soprano Soloist | Christmas Concert for Ralph Lauren
DESCRIPTION:
URL:https://charitymapletoft.com/events/soprano-soloist-christmas-concert-for-ralph-lauren/
LOCATION:London\, London\, United Kingdom
END:VEVENT
BEGIN:VEVENT
DTSTART;VALUE=DATE:20171002
DTEND;VALUE=DATE:20171003
DTSTAMP:20260421T174129
CREATED:20230704T074115Z
LAST-MODIFIED:20230816T143301Z
UID:390-1506902400-1506988799@charitymapletoft.com
SUMMARY:Guest Soloist | Soirée for His Excellency\, the Papal Nuncio to Great Britain | Apostolic Nunciature
DESCRIPTION:
URL:https://charitymapletoft.com/events/guest-soloist-soiree-for-his-excellency-the-papal-nuncio-to-the-uk-3/
LOCATION:London\, London\, United Kingdom
END:VEVENT
BEGIN:VEVENT
DTSTART;VALUE=DATE:20170910
DTEND;VALUE=DATE:20170911
DTSTAMP:20260421T174129
CREATED:20230704T074150Z
LAST-MODIFIED:20230704T074150Z
UID:392-1505001600-1505087999@charitymapletoft.com
SUMMARY:Adina (cover)* | L’elisir d’amore
DESCRIPTION:
URL:https://charitymapletoft.com/events/adina-cover-lelisir-damore/
LOCATION:Woolwich Opera Works\, London\, United Kingdom
END:VEVENT
BEGIN:VEVENT
DTSTART;VALUE=DATE:20170103
DTEND;VALUE=DATE:20170104
DTSTAMP:20260421T174129
CREATED:20230620T191251Z
LAST-MODIFIED:20230703T180939Z
UID:303-1483401600-1483487999@charitymapletoft.com
SUMMARY:Guest Soloist Kleine Orgelmesse (J. Haydn)
DESCRIPTION:
URL:https://charitymapletoft.com/events/guest-soloist-kleine-orgelmesse-j-haydn/
LOCATION:Corpus Christi ‘The Catholic Actors’ Church\, London\, United Kingdom
END:VEVENT
BEGIN:VEVENT
DTSTART;VALUE=DATE:20161018
DTEND;VALUE=DATE:20161019
DTSTAMP:20260421T174129
CREATED:20230704T074334Z
LAST-MODIFIED:20230816T143359Z
UID:396-1476748800-1476835199@charitymapletoft.com
SUMMARY:Guest Soloist | Soirée for His Excellency\, the Papal Nuncio to Great Britain | Apostolic Nunciature to Great Britain
DESCRIPTION:
URL:https://charitymapletoft.com/events/guest-soloist-soiree-for-his-excellency-the-papal-nuncio-to-the-uk-4/
LOCATION:London\, London\, United Kingdom
END:VEVENT
BEGIN:VEVENT
DTSTART;VALUE=DATE:20160405
DTEND;VALUE=DATE:20160406
DTSTAMP:20260421T174129
CREATED:20230620T191327Z
LAST-MODIFIED:20230703T181233Z
UID:305-1459814400-1459900799@charitymapletoft.com
SUMMARY:Guest Soloist Performance de Mélodies
DESCRIPTION:
URL:https://charitymapletoft.com/events/guest-soloist-performance-de-melodies/
LOCATION:The Royal Over-Seas League\, London\, United Kingdom
END:VEVENT
END:VCALENDAR