BEGIN:VCALENDAR
VERSION:2.0
PRODID:-//Charity Mapletoft - ECPv6.15.17.1//NONSGML v1.0//EN
CALSCALE:GREGORIAN
METHOD:PUBLISH
X-WR-CALNAME:Charity Mapletoft
X-ORIGINAL-URL:https://charitymapletoft.com
X-WR-CALDESC:Events for Charity Mapletoft
REFRESH-INTERVAL;VALUE=DURATION:PT1H
X-Robots-Tag:noindex
X-PUBLISHED-TTL:PT1H
BEGIN:VTIMEZONE
TZID:UTC
BEGIN:STANDARD
TZOFFSETFROM:+0000
TZOFFSETTO:+0000
TZNAME:UTC
DTSTART:20220101T000000
END:STANDARD
END:VTIMEZONE
BEGIN:VEVENT
DTSTART;VALUE=DATE:20230913
DTEND;VALUE=DATE:20230914
DTSTAMP:20260420T101632
CREATED:20230926T115852Z
LAST-MODIFIED:20230926T115852Z
UID:1074-1694563200-1694649599@charitymapletoft.com
SUMMARY:First Prize (Absolute First Prize)\, Excellent Interpretation Special Award | Finals | Bach International Music Competition 2023
DESCRIPTION:
URL:https://charitymapletoft.com/events/first-prize-absolute-first-prize-excellent-interpretation-special-award-finals-bach-international-music-competition-2023/
LOCATION:Online
END:VEVENT
END:VCALENDAR