BEGIN:VCALENDAR
VERSION:2.0
PRODID:-//Charity Mapletoft - ECPv6.15.17.1//NONSGML v1.0//EN
CALSCALE:GREGORIAN
METHOD:PUBLISH
X-WR-CALNAME:Charity Mapletoft
X-ORIGINAL-URL:https://charitymapletoft.com
X-WR-CALDESC:Events for Charity Mapletoft
REFRESH-INTERVAL;VALUE=DURATION:PT1H
X-Robots-Tag:noindex
X-PUBLISHED-TTL:PT1H
BEGIN:VTIMEZONE
TZID:UTC
BEGIN:STANDARD
TZOFFSETFROM:+0000
TZOFFSETTO:+0000
TZNAME:UTC
DTSTART:20220101T000000
END:STANDARD
END:VTIMEZONE
BEGIN:VEVENT
DTSTART;VALUE=DATE:20230912
DTEND;VALUE=DATE:20230913
DTSTAMP:20260420T114807
CREATED:20230926T115758Z
LAST-MODIFIED:20230926T121823Z
UID:1072-1694476800-1694563199@charitymapletoft.com
SUMMARY:Semi-Finals | Saint-Saëns International Music Competition 2023
DESCRIPTION:
URL:https://charitymapletoft.com/events/semi-finals-saint-saens-international-music-competition-2023/
LOCATION:Online
END:VEVENT
END:VCALENDAR