BEGIN:VCALENDAR
VERSION:2.0
PRODID:-//Charity Mapletoft - ECPv6.15.17.1//NONSGML v1.0//EN
CALSCALE:GREGORIAN
METHOD:PUBLISH
X-WR-CALNAME:Charity Mapletoft
X-ORIGINAL-URL:https://charitymapletoft.com
X-WR-CALDESC:Events for Charity Mapletoft
REFRESH-INTERVAL;VALUE=DURATION:PT1H
X-Robots-Tag:noindex
X-PUBLISHED-TTL:PT1H
BEGIN:VTIMEZONE
TZID:UTC
BEGIN:STANDARD
TZOFFSETFROM:+0000
TZOFFSETTO:+0000
TZNAME:UTC
DTSTART:20220101T000000
END:STANDARD
END:VTIMEZONE
BEGIN:VEVENT
DTSTART;VALUE=DATE:20230911
DTEND;VALUE=DATE:20230912
DTSTAMP:20260420T132021
CREATED:20230707T104310Z
LAST-MODIFIED:20230926T115719Z
UID:444-1694390400-1694476799@charitymapletoft.com
SUMMARY:Semi-Finals (competition cancelled due to COVID-19) | Manchester International Music Competition 2023 | Manchester\, United Kingdom | 11th September 2023 |
DESCRIPTION:
URL:https://charitymapletoft.com/events/semi-finals-manchester-international-music-competition-2023/
LOCATION:Manchester\, United Kingdom
END:VEVENT
END:VCALENDAR