BEGIN:VCALENDAR
VERSION:2.0
PRODID:-//Charity Mapletoft - ECPv6.15.17.1//NONSGML v1.0//EN
CALSCALE:GREGORIAN
METHOD:PUBLISH
X-ORIGINAL-URL:https://charitymapletoft.com
X-WR-CALDESC:Events for Charity Mapletoft
REFRESH-INTERVAL;VALUE=DURATION:PT1H
X-Robots-Tag:noindex
X-PUBLISHED-TTL:PT1H
BEGIN:VTIMEZONE
TZID:UTC
BEGIN:STANDARD
TZOFFSETFROM:+0000
TZOFFSETTO:+0000
TZNAME:UTC
DTSTART:20220101T000000
END:STANDARD
END:VTIMEZONE
BEGIN:VEVENT
DTSTART;VALUE=DATE:20230902
DTEND;VALUE=DATE:20230903
DTSTAMP:20260421T005510
CREATED:20230926T115536Z
LAST-MODIFIED:20230926T115536Z
UID:1067-1693612800-1693699199@charitymapletoft.com
SUMMARY:First Prize\, Best Emerging Talent Award | Finals | Amadeus International Music Awards 2023
DESCRIPTION:
URL:https://charitymapletoft.com/events/first-prize-best-emerging-talent-award-finals-amadeus-international-music-awards-2023/
LOCATION:Salzburg\, Austria
END:VEVENT
END:VCALENDAR