BEGIN:VCALENDAR
VERSION:2.0
PRODID:-//Charity Mapletoft - ECPv6.15.17.1//NONSGML v1.0//EN
CALSCALE:GREGORIAN
METHOD:PUBLISH
X-WR-CALNAME:Charity Mapletoft
X-ORIGINAL-URL:https://charitymapletoft.com
X-WR-CALDESC:Events for Charity Mapletoft
REFRESH-INTERVAL;VALUE=DURATION:PT1H
X-Robots-Tag:noindex
X-PUBLISHED-TTL:PT1H
BEGIN:VTIMEZONE
TZID:UTC
BEGIN:STANDARD
TZOFFSETFROM:+0000
TZOFFSETTO:+0000
TZNAME:UTC
DTSTART:20220101T000000
END:STANDARD
END:VTIMEZONE
BEGIN:VEVENT
DTSTART;VALUE=DATE:20230823
DTEND;VALUE=DATE:20230824
DTSTAMP:20260421T064757
CREATED:20230926T115210Z
LAST-MODIFIED:20230926T115210Z
UID:1065-1692748800-1692835199@charitymapletoft.com
SUMMARY:First Prize (Platinum Award)\, Master of Emotion Special Award | Finals | Elizabeth Music Competition 2023
DESCRIPTION:
URL:https://charitymapletoft.com/events/first-prize-platinum-award-master-of-emotion-special-award-finals-elizabeth-music-competition-2023/
LOCATION:London\, London\, United Kingdom
END:VEVENT
END:VCALENDAR