BEGIN:VCALENDAR
VERSION:2.0
PRODID:-//Charity Mapletoft - ECPv6.15.17.1//NONSGML v1.0//EN
CALSCALE:GREGORIAN
METHOD:PUBLISH
X-WR-CALNAME:Charity Mapletoft
X-ORIGINAL-URL:https://charitymapletoft.com
X-WR-CALDESC:Events for Charity Mapletoft
REFRESH-INTERVAL;VALUE=DURATION:PT1H
X-Robots-Tag:noindex
X-PUBLISHED-TTL:PT1H
BEGIN:VTIMEZONE
TZID:UTC
BEGIN:STANDARD
TZOFFSETFROM:+0000
TZOFFSETTO:+0000
TZNAME:UTC
DTSTART:20220101T000000
END:STANDARD
END:VTIMEZONE
BEGIN:VEVENT
DTSTART;VALUE=DATE:20230817
DTEND;VALUE=DATE:20230818
DTSTAMP:20260421T064732
CREATED:20230926T114935Z
LAST-MODIFIED:20230926T114935Z
UID:1062-1692230400-1692316799@charitymapletoft.com
SUMMARY:Grand Prize\, First Prize (Platinum Award) | Finals | European Classical Music Awards 2023
DESCRIPTION:
URL:https://charitymapletoft.com/events/grand-prize-first-prize-platinum-award-finals-european-classical-music-awards-2023/
LOCATION:Online
END:VEVENT
END:VCALENDAR