BEGIN:VCALENDAR
VERSION:2.0
PRODID:-//Charity Mapletoft - ECPv6.15.17.1//NONSGML v1.0//EN
CALSCALE:GREGORIAN
METHOD:PUBLISH
X-ORIGINAL-URL:https://charitymapletoft.com
X-WR-CALDESC:Events for Charity Mapletoft
REFRESH-INTERVAL;VALUE=DURATION:PT1H
X-Robots-Tag:noindex
X-PUBLISHED-TTL:PT1H
BEGIN:VTIMEZONE
TZID:UTC
BEGIN:STANDARD
TZOFFSETFROM:+0000
TZOFFSETTO:+0000
TZNAME:UTC
DTSTART:20220101T000000
END:STANDARD
END:VTIMEZONE
BEGIN:VEVENT
DTSTART;VALUE=DATE:20230730
DTEND;VALUE=DATE:20230731
DTSTAMP:20260423T090504
CREATED:20230711T123830Z
LAST-MODIFIED:20230801T112408Z
UID:464-1690675200-1690761599@charitymapletoft.com
SUMMARY:First Prize | Medici International Music Competition 2023 Finals
DESCRIPTION:
URL:https://charitymapletoft.com/events/finals-medici-international-music-competition-2023/
LOCATION:Online
END:VEVENT
END:VCALENDAR