BEGIN:VCALENDAR
VERSION:2.0
PRODID:-//Charity Mapletoft - ECPv6.15.17.1//NONSGML v1.0//EN
CALSCALE:GREGORIAN
METHOD:PUBLISH
X-ORIGINAL-URL:https://charitymapletoft.com
X-WR-CALDESC:Events for Charity Mapletoft
REFRESH-INTERVAL;VALUE=DURATION:PT1H
X-Robots-Tag:noindex
X-PUBLISHED-TTL:PT1H
BEGIN:VTIMEZONE
TZID:UTC
BEGIN:STANDARD
TZOFFSETFROM:+0000
TZOFFSETTO:+0000
TZNAME:UTC
DTSTART:20220101T000000
END:STANDARD
END:VTIMEZONE
BEGIN:VEVENT
DTSTART;VALUE=DATE:20230705
DTEND;VALUE=DATE:20230706
DTSTAMP:20260421T082333
CREATED:20230711T123929Z
LAST-MODIFIED:20230814T123359Z
UID:470-1688515200-1688601599@charitymapletoft.com
SUMMARY:Semi-Finals | U. K. International Music Competition 2023
DESCRIPTION:
URL:https://charitymapletoft.com/events/semi-finals-u-k-international-music-competition-2023/
LOCATION:London\, London\, United Kingdom
END:VEVENT
END:VCALENDAR