BEGIN:VCALENDAR
VERSION:2.0
PRODID:-//Charity Mapletoft - ECPv6.15.17.1//NONSGML v1.0//EN
CALSCALE:GREGORIAN
METHOD:PUBLISH
X-ORIGINAL-URL:https://charitymapletoft.com
X-WR-CALDESC:Events for Charity Mapletoft
REFRESH-INTERVAL;VALUE=DURATION:PT1H
X-Robots-Tag:noindex
X-PUBLISHED-TTL:PT1H
BEGIN:VTIMEZONE
TZID:UTC
BEGIN:STANDARD
TZOFFSETFROM:+0000
TZOFFSETTO:+0000
TZNAME:UTC
DTSTART:20210101T000000
END:STANDARD
END:VTIMEZONE
BEGIN:VEVENT
DTSTART;VALUE=DATE:20220608
DTEND;VALUE=DATE:20220609
DTSTAMP:20260423T204409
CREATED:20230803T092916Z
LAST-MODIFIED:20230814T130047Z
UID:601-1654646400-1654732799@charitymapletoft.com
SUMMARY:Second Prize (First Prize N. D.) | Finals | International BTHVN Wien Music Competition 2022
DESCRIPTION:
URL:https://charitymapletoft.com/events/second-prize-first-prize-n-d-international-bthvn-wien-music-competition-2022-finals/
LOCATION:Online
END:VEVENT
END:VCALENDAR